BEGIN:VCALENDAR
VERSION:2.0
PRODID:-//Culemborgs Mannenkoor - ECPv6.15.20//NONSGML v1.0//EN
CALSCALE:GREGORIAN
METHOD:PUBLISH
X-ORIGINAL-URL:https://culemborgsmannenkoor.nl
X-WR-CALDESC:Evenementen voor Culemborgs Mannenkoor
REFRESH-INTERVAL;VALUE=DURATION:PT1H
X-Robots-Tag:noindex
X-PUBLISHED-TTL:PT1H
BEGIN:VTIMEZONE
TZID:Europe/Amsterdam
BEGIN:DAYLIGHT
TZOFFSETFROM:+0100
TZOFFSETTO:+0200
TZNAME:CEST
DTSTART:20240331T010000
END:DAYLIGHT
BEGIN:STANDARD
TZOFFSETFROM:+0200
TZOFFSETTO:+0100
TZNAME:CET
DTSTART:20241027T010000
END:STANDARD
BEGIN:DAYLIGHT
TZOFFSETFROM:+0100
TZOFFSETTO:+0200
TZNAME:CEST
DTSTART:20250330T010000
END:DAYLIGHT
BEGIN:STANDARD
TZOFFSETFROM:+0200
TZOFFSETTO:+0100
TZNAME:CET
DTSTART:20251026T010000
END:STANDARD
BEGIN:DAYLIGHT
TZOFFSETFROM:+0100
TZOFFSETTO:+0200
TZNAME:CEST
DTSTART:20260329T010000
END:DAYLIGHT
BEGIN:STANDARD
TZOFFSETFROM:+0200
TZOFFSETTO:+0100
TZNAME:CET
DTSTART:20261025T010000
END:STANDARD
END:VTIMEZONE
BEGIN:VEVENT
DTSTART;TZID=Europe/Amsterdam:20251221T150000
DTEND;TZID=Europe/Amsterdam:20251221T170000
DTSTAMP:20260422T215010
CREATED:20251020T122651Z
LAST-MODIFIED:20251020T123948Z
UID:3579-1766329200-1766336400@culemborgsmannenkoor.nl
SUMMARY:Kerst-in
DESCRIPTION:Inmiddels is de kerst-in van het CMK een gewaardeerde traditie. Het Culemborgs Mannenkoor zingt met veel enthousiasme bekende en minder bekende kerstliederen voor de juiste kerstsfeer. \nDe entree is gratis. Na afloop kunt u als u dat wilt doneren via hoed of QR-code. \nDrankjes betaalt u zelf\, maar voor lekkere hapjes wordt gezorgd.
URL:https://culemborgsmannenkoor.nl/evenement/kerst-in/
LOCATION:Goilberdingerstraat 14   Culemborg\, Goilberdingerstraat 14\, Culemborg\, Gelderland\, 4101 BP\, Nederland
END:VEVENT
END:VCALENDAR